BEGIN:VCALENDAR
VERSION:2.0
PRODID:-//Tukios.com/
BEGIN:VEVENT
UID:8e113b18-ea99-40d5-b8af-acd1fbbf2cf6@www.parrottandwoodsfh.com
DTSTAMP:20260423T230521Z
DTSTART:20260501T220000Z
DTEND:20260502T000000Z
SUMMARY:Visitation
DESCRIPTION:
URL:https://www.parrottandwoodsfh.com/obituaries/david-schoepske
LOCATION: 965 Home Plaza  Waterloo IA 50701
GEO:42.4585089;-92.3742468
END:VEVENT
END:VCALENDAR