BEGIN:VCALENDAR
VERSION:2.0
PRODID:-//Tukios.com/
BEGIN:VEVENT
UID:bc97ce38-3161-4455-b97c-572b4740dfbd@www.parrottandwoodsfh.com
DTSTAMP:20260423T225910Z
DTSTART:20260502T150000Z
DTEND:20260502T154500Z
SUMMARY:Funeral Service
DESCRIPTION:
URL:https://www.parrottandwoodsfh.com/obituaries/david-schoepske
LOCATION:Immanuel Lutheran Church 4820 Oster Pkwy  Cedar Falls IA 50613
GEO:42.4943315;-92.4240401
END:VEVENT
END:VCALENDAR