BEGIN:VCALENDAR
VERSION:2.0
PRODID:-//Tukios.com/
BEGIN:VEVENT
UID:eb09ec7b-1673-44ba-bd96-a21ba978b819@www.parrottandwoodsfh.com
DTSTAMP:20260423T230215Z
DTSTART:20260502T160000Z
DTEND:20260502T170000Z
SUMMARY:Burial
DESCRIPTION:
URL:https://www.parrottandwoodsfh.com/obituaries/david-schoepske
LOCATION: 3669 Logan Ave  Waterloo IA 50703
GEO:42.5515764;-92.339209
END:VEVENT
END:VCALENDAR