BEGIN:VCALENDAR
VERSION:2.0
PRODID:-//Tukios.com/
BEGIN:VEVENT
UID:44f61224-e6e2-44c1-8faa-db3912feab6c@www.parrottandwoodsfh.com
DTSTAMP:20260422T000021Z
DTSTART:20260427T160000Z
DTEND:20260427T190000Z
SUMMARY:Visitation
DESCRIPTION:
URL:https://www.parrottandwoodsfh.com/obituaries/senecca-moore
LOCATION: 965 Home Plaza  Waterloo IA 50701
GEO:42.4585089;-92.3742468
END:VEVENT
END:VCALENDAR